BEGIN:VCALENDAR
VERSION:2.0
PRODID:-//MLP//ical//EN
TIMEZONE-ID:Europe/Berlin
X-WR-TIMEZONE:Europe/Berlin
BEGIN:VEVENT
UID:2ml2@events.mlp.de
SEQUENCE:0
DTSTAMP:20260420T081804Z
DTSTART:20260318T173000Z
DTEND:20260318T210000Z
SUMMARY:Was haben Mikroplastik und Biodiversität mit Altersvorsorge und Re
 nte zu tun?
LOCATION:\n    Hotel Kieler Kaufmann\,\n\n    Niemannsweg  102\,\n\n    24
 105 Kiel\n    
DESCRIPTION:Zur An-/Abmeldung und weiteren Informationen:\nevents.mlp.de/e
 vents/xaktzivysk/was-haben-mikroplastik-und-biodiversitaet-mit-altersvorso
 rge-und-rente-zu-tun
END:VEVENT
END:VCALENDAR